BEGIN:VCALENDAR
VERSION:2.0
PRODID:-//Tukios.com/
BEGIN:VEVENT
UID:fd9ac955-dd82-47c9-823e-7733d75bb046@www.jamesstumpfuneralhome.com
DTSTAMP:20260424T014511Z
DTSTART:20260426T180000Z
DTEND:20260426T200000Z
SUMMARY:Visitation
DESCRIPTION:
URL:https://www.jamesstumpfuneralhome.com/obituaries/jane-leyda
LOCATION: 580 Circle Drive, P.O. Box 511  Rostraver Township PA 15012
GEO:40.1767884;-79.807249
END:VEVENT
END:VCALENDAR