BEGIN:VCALENDAR
VERSION:2.0
PRODID:-//Tukios.com/
BEGIN:VEVENT
UID:be51ac28-55f8-40f2-b0a7-aef026210b65@www.jamesstumpfuneralhome.com
DTSTAMP:20260424T015153Z
DTSTART:20260426T220000Z
DTEND:20260427T000000Z
SUMMARY:Visitation
DESCRIPTION:
URL:https://www.jamesstumpfuneralhome.com/obituaries/jane-leyda
LOCATION: 580 Circle Drive, P.O. Box 511  Rostraver Township PA 15012
GEO:40.1767884;-79.807249
END:VEVENT
END:VCALENDAR